BEGIN:VCALENDAR
VERSION:2.0
PRODID:-//Sabre//Sabre VObject 4.5.8//EN
CALSCALE:GREGORIAN
NAME:Semantic Interoperability
X-WR-CALNAME:Semantic Interoperability
BEGIN:VTIMEZONE
TZID:UTC
X-MICROSOFT-CDO-TZID:0
BEGIN:STANDARD
DTSTART:20100502T000000
TZOFFSETFROM:+0000
TZOFFSETTO:+0000
TZNAME:UTC
END:STANDARD
END:VTIMEZONE
BEGIN:VEVENT
UID:e05f16b4-42a5-4f27-9894-ce4ff618b4aa
DTSTAMP:20221116T141345Z
SUMMARY:Semantic Interoperability
DTSTART:20110427T000000Z
DTEND:20110427T000000Z
DESCRIPTION:https://www.w3.org/events/talks/2011/semantic-interoperability/
 \n\nSemantic Interoperability
STATUS:CONFIRMED
CREATED:20110427T000000Z
LAST-MODIFIED:20221116T141345Z
END:VEVENT
END:VCALENDAR
