BEGIN:VCALENDAR
VERSION:2.0
PRODID:-//Sabre//Sabre VObject 4.5.8//EN
CALSCALE:GREGORIAN
NAME:Semantic Web Death Match 2011: Industry vs. Academia vs. Standards
X-WR-CALNAME:Semantic Web Death Match 2011: Industry vs. Academia vs. Stand
 ards
BEGIN:VTIMEZONE
TZID:UTC
X-MICROSOFT-CDO-TZID:0
BEGIN:STANDARD
DTSTART:20101031T000000
TZOFFSETFROM:+0000
TZOFFSETTO:+0000
TZNAME:UTC
END:STANDARD
END:VTIMEZONE
BEGIN:VEVENT
UID:0e30259f-c1d2-435f-9296-8d84fd016460
DTSTAMP:20221116T141337Z
SUMMARY:Semantic Web Death Match 2011: Industry vs. Academia vs. Standards
DTSTART:20111026T000000Z
DTEND:20111026T000000Z
DESCRIPTION:https://www.w3.org/events/talks/2011/semantic-web-death-match-2
 011-industry-vs-academia-vs-standards/\n\nSemantic Web Death Match 2011: I
 ndustry vs. Academia vs. Standards
STATUS:CONFIRMED
CREATED:20111026T000000Z
LAST-MODIFIED:20221116T141337Z
END:VEVENT
END:VCALENDAR
