BEGIN:VCALENDAR
VERSION:2.0
PRODID:-//Sabre//Sabre VObject 4.5.8//EN
CALSCALE:GREGORIAN
NAME:Standardisierung ist der Schlüssel - Deutsch-österreichisches Büro 
 des W3C am DFKI Berlin (Standardization is the key - W3C German Austrian O
 ffice at DFKI Berlin)
X-WR-CALNAME:Standardisierung ist der Schlüssel - Deutsch-österreichische
 s Büro des W3C am DFKI Berlin (Standardization is the key - W3C German Au
 strian Office at DFKI Berlin)
BEGIN:VTIMEZONE
TZID:UTC
X-MICROSOFT-CDO-TZID:0
BEGIN:STANDARD
DTSTART:20100307T000000
TZOFFSETFROM:+0000
TZOFFSETTO:+0000
TZNAME:UTC
END:STANDARD
END:VTIMEZONE
BEGIN:VEVENT
UID:ba11b1ad-df69-4210-b0c5-e47da61d6055
DTSTAMP:20221116T141344Z
SUMMARY:Standardisierung ist der Schlüssel - Deutsch-österreichisches Bü
 ro des W3C am DFKI Berlin (Standardization is the key - W3C German Austria
 n Office at DFKI Berlin)
DTSTART:20110302T000000Z
DTEND:20110302T000000Z
DESCRIPTION:https://www.w3.org/events/talks/2011/standardisierung-ist-der-s
 chl%C3%BCssel-deutsch-%C3%B6sterreichisches-b%C3%BCro-des-w3c-am-dfki-berl
 in-standardization-is-the-key-w3c-german-austrian-office-at-dfki-berlin/\n
 \nStandardisierung ist der Schlüssel - Deutsch-österreichisches Büro de
 s W3C am DFKI Berlin (Standardization is the key - W3C German Austrian Off
 ice at DFKI Berlin)
STATUS:CONFIRMED
CREATED:20110302T000000Z
LAST-MODIFIED:20221116T141344Z
END:VEVENT
END:VCALENDAR
