BEGIN:VCALENDAR
VERSION:2.0
PRODID:-//Sabre//Sabre VObject 4.5.8//EN
CALSCALE:GREGORIAN
NAME:The Mobile web toolbox for developers
X-WR-CALNAME:The Mobile web toolbox for developers
BEGIN:VTIMEZONE
TZID:UTC
X-MICROSOFT-CDO-TZID:0
BEGIN:STANDARD
DTSTART:20100118T000000
TZOFFSETFROM:+0000
TZOFFSETTO:+0000
TZNAME:UTC
END:STANDARD
END:VTIMEZONE
BEGIN:VEVENT
UID:b552e9bd-a478-4233-b432-10d5686ebd55
DTSTAMP:20221116T141340Z
SUMMARY:The Mobile web toolbox for developers
DTSTART:20110113T000000Z
DTEND:20110113T000000Z
DESCRIPTION:https://www.w3.org/events/talks/2011/the-mobile-web-toolbox-for
 -developers/\n\nThe Mobile web toolbox for developers
STATUS:CONFIRMED
CREATED:20110113T000000Z
LAST-MODIFIED:20221116T141340Z
END:VEVENT
END:VCALENDAR
