BEGIN:VCALENDAR
VERSION:2.0
PRODID:-//Sabre//Sabre VObject 4.5.8//EN
CALSCALE:GREGORIAN
NAME:The open web platform - HTML5 and open web standards
X-WR-CALNAME:The open web platform - HTML5 and open web standards
BEGIN:VTIMEZONE
TZID:UTC
X-MICROSOFT-CDO-TZID:0
BEGIN:STANDARD
DTSTART:20100313T000000
TZOFFSETFROM:+0000
TZOFFSETTO:+0000
TZNAME:UTC
END:STANDARD
END:VTIMEZONE
BEGIN:VEVENT
UID:86eb5194-1426-48bf-84b9-a3b628ed405a
DTSTAMP:20221116T141342Z
SUMMARY:The open web platform - HTML5 and open web standards
DTSTART:20110308T000000Z
DTEND:20110308T000000Z
DESCRIPTION:https://www.w3.org/events/talks/2011/the-open-web-platform-html
 5-and-open-web-standards/\n\nThe open web platform - HTML5 and open web st
 andards
STATUS:CONFIRMED
CREATED:20110308T000000Z
LAST-MODIFIED:20221116T141342Z
END:VEVENT
END:VCALENDAR
