BEGIN:VCALENDAR
VERSION:2.0
PRODID:-//Sabre//Sabre VObject 4.5.8//EN
CALSCALE:GREGORIAN
NAME:The Open Web Platform\, Mobile and HTML5
X-WR-CALNAME:The Open Web Platform\, Mobile and HTML5
BEGIN:VTIMEZONE
TZID:UTC
X-MICROSOFT-CDO-TZID:0
BEGIN:STANDARD
DTSTART:20110103T000000
TZOFFSETFROM:+0000
TZOFFSETTO:+0000
TZNAME:UTC
END:STANDARD
END:VTIMEZONE
BEGIN:VEVENT
UID:46816daf-6f4d-4ebe-8c24-9c43fc23c383
DTSTAMP:20221116T141338Z
SUMMARY:The Open Web Platform\, Mobile and HTML5
DTSTART:20111229T000000Z
DTEND:20111229T000000Z
DESCRIPTION:https://www.w3.org/events/talks/2011/the-open-web-platform-mobi
 le-and-html5/\n\nThe Open Web Platform\, Mobile and HTML5
STATUS:CONFIRMED
CREATED:20111229T000000Z
LAST-MODIFIED:20221116T141338Z
END:VEVENT
END:VCALENDAR
