BEGIN:VCALENDAR
VERSION:2.0
PRODID:-//Sabre//Sabre VObject 4.5.8//EN
CALSCALE:GREGORIAN
NAME:The Open Web Platform
X-WR-CALNAME:The Open Web Platform
BEGIN:VTIMEZONE
TZID:UTC
X-MICROSOFT-CDO-TZID:0
BEGIN:STANDARD
DTSTART:20100308T000000
TZOFFSETFROM:+0000
TZOFFSETTO:+0000
TZNAME:UTC
END:STANDARD
END:VTIMEZONE
BEGIN:VEVENT
UID:ed9fcedf-02c5-48ce-bc43-23daeb34abfb
DTSTAMP:20221116T141346Z
SUMMARY:The Open Web Platform
DTSTART:20110303T000000Z
DTEND:20110303T000000Z
DESCRIPTION:https://www.w3.org/events/talks/2011/the-open-web-platform/\n\n
 The Open Web Platform
STATUS:CONFIRMED
CREATED:20110303T000000Z
LAST-MODIFIED:20221116T141346Z
END:VEVENT
END:VCALENDAR
