BEGIN:VCALENDAR
VERSION:2.0
PRODID:-//Sabre//Sabre VObject 4.5.8//EN
CALSCALE:GREGORIAN
NAME:The power of Mobile Web Applications
X-WR-CALNAME:The power of Mobile Web Applications
BEGIN:VTIMEZONE
TZID:UTC
X-MICROSOFT-CDO-TZID:0
BEGIN:STANDARD
DTSTART:20100405T000000
TZOFFSETFROM:+0000
TZOFFSETTO:+0000
TZNAME:UTC
END:STANDARD
END:VTIMEZONE
BEGIN:VEVENT
UID:ed1f71ef-db0f-4409-8b15-ce1e29b5a9f5
DTSTAMP:20221116T141344Z
SUMMARY:The power of Mobile Web Applications
DTSTART:20110331T000000Z
DTEND:20110331T000000Z
DESCRIPTION:https://www.w3.org/events/talks/2011/the-power-of-mobile-web-ap
 plications/\n\nThe power of Mobile Web Applications
STATUS:CONFIRMED
CREATED:20110331T000000Z
LAST-MODIFIED:20221116T141344Z
END:VEVENT
END:VCALENDAR
