BEGIN:VCALENDAR
VERSION:2.0
PRODID:-//Sabre//Sabre VObject 4.5.8//EN
CALSCALE:GREGORIAN
NAME:The Web: a platform for applications on connected devices
X-WR-CALNAME:The Web: a platform for applications on connected devices
BEGIN:VTIMEZONE
TZID:UTC
X-MICROSOFT-CDO-TZID:0
BEGIN:STANDARD
DTSTART:20100322T000000
TZOFFSETFROM:+0000
TZOFFSETTO:+0000
TZNAME:UTC
END:STANDARD
END:VTIMEZONE
BEGIN:VEVENT
UID:82f5913d-4694-485a-80d7-a82a726fe7fb
DTSTAMP:20221116T141344Z
SUMMARY:The Web: a platform for applications on connected devices
DTSTART:20110317T000000Z
DTEND:20110317T000000Z
DESCRIPTION:https://www.w3.org/events/talks/2011/the-web-a-platform-for-app
 lications-on-connected-devices/\n\nThe Web: a platform for applications on
  connected devices
STATUS:CONFIRMED
CREATED:20110317T000000Z
LAST-MODIFIED:20221116T141344Z
END:VEVENT
END:VCALENDAR
