BEGIN:VCALENDAR
VERSION:2.0
PRODID:-//Sabre//Sabre VObject 4.5.8//EN
CALSCALE:GREGORIAN
NAME:Think Mobile First\, Then Enhance
X-WR-CALNAME:Think Mobile First\, Then Enhance
BEGIN:VTIMEZONE
TZID:UTC
X-MICROSOFT-CDO-TZID:0
BEGIN:STANDARD
DTSTART:20100316T000000
TZOFFSETFROM:+0000
TZOFFSETTO:+0000
TZNAME:UTC
END:STANDARD
END:VTIMEZONE
BEGIN:VEVENT
UID:8cae09f2-69da-4488-906b-5132a91d0b69
DTSTAMP:20221116T141341Z
SUMMARY:Think Mobile First\, Then Enhance
DTSTART:20110311T000000Z
DTEND:20110311T000000Z
DESCRIPTION:https://www.w3.org/events/talks/2011/think-mobile-first-then-en
 hance/\n\nThink Mobile First\, Then Enhance
STATUS:CONFIRMED
CREATED:20110311T000000Z
LAST-MODIFIED:20221116T141341Z
END:VEVENT
END:VCALENDAR
