BEGIN:VCALENDAR
VERSION:2.0
PRODID:-//Sabre//Sabre VObject 4.5.8//EN
CALSCALE:GREGORIAN
NAME:W3C Widgets and Web APIs
X-WR-CALNAME:W3C Widgets and Web APIs
BEGIN:VTIMEZONE
TZID:UTC
X-MICROSOFT-CDO-TZID:0
BEGIN:STANDARD
DTSTART:20100219T000000
TZOFFSETFROM:+0000
TZOFFSETTO:+0000
TZNAME:UTC
END:STANDARD
END:VTIMEZONE
BEGIN:VEVENT
UID:fb7f65a2-42a9-41ea-9a21-adc0c703ab7e
DTSTAMP:20221116T141620Z
SUMMARY:W3C Widgets and Web APIs
DTSTART:20110214T000000Z
DTEND:20110214T000000Z
DESCRIPTION:https://www.w3.org/events/talks/2011/w3c-widgets-and-web-apis/\
 n\nW3C Widgets and Web APIs
STATUS:CONFIRMED
CREATED:20110214T000000Z
LAST-MODIFIED:20221116T141620Z
END:VEVENT
END:VCALENDAR
