BEGIN:VCALENDAR
VERSION:2.0
PRODID:-//Sabre//Sabre VObject 4.5.8//EN
CALSCALE:GREGORIAN
NAME:WAI-ARIA\, jQuery and HTML5
X-WR-CALNAME:WAI-ARIA\, jQuery and HTML5
BEGIN:VTIMEZONE
TZID:UTC
X-MICROSOFT-CDO-TZID:0
BEGIN:STANDARD
DTSTART:20100227T000000
TZOFFSETFROM:+0000
TZOFFSETTO:+0000
TZNAME:UTC
END:STANDARD
END:VTIMEZONE
BEGIN:VEVENT
UID:bbbdc9b0-de26-411f-86cd-8f5cd589c28d
DTSTAMP:20221116T141346Z
SUMMARY:WAI-ARIA\, jQuery and HTML5
DTSTART:20110222T000000Z
DTEND:20110222T000000Z
DESCRIPTION:https://www.w3.org/events/talks/2011/wai-aria-jquery-and-html5/
 \n\nWAI-ARIA\, jQuery and HTML5
STATUS:CONFIRMED
CREATED:20110222T000000Z
LAST-MODIFIED:20221116T141346Z
END:VEVENT
END:VCALENDAR
