BEGIN:VCALENDAR
VERSION:2.0
PRODID:-//Sabre//Sabre VObject 4.5.8//EN
CALSCALE:GREGORIAN
NAME:Web Accessibility is About People: A Tour of New WAI Resources
X-WR-CALNAME:Web Accessibility is About People: A Tour of New WAI Resources
BEGIN:VTIMEZONE
TZID:UTC
X-MICROSOFT-CDO-TZID:0
BEGIN:STANDARD
DTSTART:20100322T000000
TZOFFSETFROM:+0000
TZOFFSETTO:+0000
TZNAME:UTC
END:STANDARD
END:VTIMEZONE
BEGIN:VEVENT
UID:e0f1eb79-d1d9-4fa9-b1c3-d3cdeb0bf048
DTSTAMP:20221116T141340Z
SUMMARY:Web Accessibility is About People: A Tour of New WAI Resources
DTSTART:20110317T000000Z
DTEND:20110317T000000Z
DESCRIPTION:https://www.w3.org/events/talks/2011/web-accessibility-is-about
 -people-a-tour-of-new-wai-resources/\n\nWeb Accessibility is About People:
  A Tour of New WAI Resources
STATUS:CONFIRMED
CREATED:20110317T000000Z
LAST-MODIFIED:20221116T141340Z
END:VEVENT
END:VCALENDAR
