BEGIN:VCALENDAR
VERSION:2.0
PRODID:-//Sabre//Sabre VObject 4.5.8//EN
CALSCALE:GREGORIAN
NAME:What's hot on the Web right now - A W3C perspective
X-WR-CALNAME:What's hot on the Web right now - A W3C perspective
BEGIN:VTIMEZONE
TZID:UTC
X-MICROSOFT-CDO-TZID:0
BEGIN:STANDARD
DTSTART:20100316T000000
TZOFFSETFROM:+0000
TZOFFSETTO:+0000
TZNAME:UTC
END:STANDARD
END:VTIMEZONE
BEGIN:VEVENT
UID:29363c06-ffda-47d7-9f0a-964d07933192
DTSTAMP:20221116T141351Z
SUMMARY:What's hot on the Web right now - A W3C perspective
DTSTART:20110311T000000Z
DTEND:20110311T000000Z
DESCRIPTION:https://www.w3.org/events/talks/2011/whats-hot-on-the-web-right
 -now-a-w3c-perspective/\n\nWhat's hot on the Web right now - A W3C perspec
 tive
STATUS:CONFIRMED
CREATED:20110311T000000Z
LAST-MODIFIED:20221116T141351Z
END:VEVENT
END:VCALENDAR
