BEGIN:VCALENDAR
VERSION:2.0
PRODID:-//Sabre//Sabre VObject 4.5.8//EN
CALSCALE:GREGORIAN
NAME:ALMcss: A JavaScript Implementation of the CSS Template Layout Module
X-WR-CALNAME:ALMcss: A JavaScript Implementation of the CSS Template Layout
  Module
BEGIN:VTIMEZONE
TZID:UTC
X-MICROSOFT-CDO-TZID:0
BEGIN:STANDARD
DTSTART:20110911T000000
TZOFFSETFROM:+0000
TZOFFSETTO:+0000
TZNAME:UTC
END:STANDARD
END:VTIMEZONE
BEGIN:VEVENT
UID:fed92e9d-6a38-4bbd-9fc1-59ff1ab0c70e
DTSTAMP:20221118T160246Z
SUMMARY:ALMcss: A JavaScript Implementation of the CSS Template Layout Modu
 le
DTSTART:20120905T000000Z
DTEND:20120905T000000Z
DESCRIPTION:https://www.w3.org/events/talks/2012/almcss-a-javascript-implem
 entation-of-the-css-template-layout-module/\n\nALMcss: A JavaScript Implem
 entation of the CSS Template Layout Module
STATUS:CONFIRMED
CREATED:20120905T000000Z
LAST-MODIFIED:20221118T160246Z
END:VEVENT
END:VCALENDAR
