BEGIN:VCALENDAR
VERSION:2.0
PRODID:-//Sabre//Sabre VObject 4.5.8//EN
CALSCALE:GREGORIAN
NAME:Bonnes pratiques pour le Web mobile (Best practices for the mobile Web
 )
X-WR-CALNAME:Bonnes pratiques pour le Web mobile (Best practices for the mo
 bile Web)
BEGIN:VTIMEZONE
TZID:UTC
X-MICROSOFT-CDO-TZID:0
BEGIN:STANDARD
DTSTART:20110402T000000
TZOFFSETFROM:+0000
TZOFFSETTO:+0000
TZNAME:UTC
END:STANDARD
END:VTIMEZONE
BEGIN:VEVENT
UID:e9e6dbbc-5f6c-45e9-b134-6ee4fffa875f
DTSTAMP:20221118T160255Z
SUMMARY:Bonnes pratiques pour le Web mobile (Best practices for the mobile 
 Web)
DTSTART:20120327T000000Z
DTEND:20120327T000000Z
DESCRIPTION:https://www.w3.org/events/talks/2012/bonnes-pratiques-pour-le-w
 eb-mobile-best-practices-for-the-mobile-web/\n\nBonnes pratiques pour le W
 eb mobile (Best practices for the mobile Web)
STATUS:CONFIRMED
CREATED:20120327T000000Z
LAST-MODIFIED:20221118T160255Z
END:VEVENT
END:VCALENDAR
