BEGIN:VCALENDAR
VERSION:2.0
PRODID:-//Sabre//Sabre VObject 4.5.8//EN
CALSCALE:GREGORIAN
NAME:Building the Business Case in your Organization
X-WR-CALNAME:Building the Business Case in your Organization
BEGIN:VTIMEZONE
TZID:UTC
X-MICROSOFT-CDO-TZID:0
BEGIN:STANDARD
DTSTART:20110304T000000
TZOFFSETFROM:+0000
TZOFFSETTO:+0000
TZNAME:UTC
END:STANDARD
END:VTIMEZONE
BEGIN:VEVENT
UID:824bcdd2-5146-4a88-bd06-806b83de9a8c
DTSTAMP:20221118T160255Z
SUMMARY:Building the Business Case in your Organization
DTSTART:20120227T000000Z
DTEND:20120227T000000Z
DESCRIPTION:https://www.w3.org/events/talks/2012/building-the-business-case
 -in-your-organization/\n\nBuilding the Business Case in your Organization
STATUS:CONFIRMED
CREATED:20120227T000000Z
LAST-MODIFIED:20221118T160255Z
END:VEVENT
END:VCALENDAR
