BEGIN:VCALENDAR
VERSION:2.0
PRODID:-//Sabre//Sabre VObject 4.5.8//EN
CALSCALE:GREGORIAN
NAME:Developing Mobile Web Applications (tutorial)
X-WR-CALNAME:Developing Mobile Web Applications (tutorial)
BEGIN:VTIMEZONE
TZID:UTC
X-MICROSOFT-CDO-TZID:0
BEGIN:STANDARD
DTSTART:20110423T000000
TZOFFSETFROM:+0000
TZOFFSETTO:+0000
TZNAME:UTC
END:STANDARD
END:VTIMEZONE
BEGIN:VEVENT
UID:03aee8c4-889b-439b-b112-6eae9a497586
DTSTAMP:20221118T160938Z
SUMMARY:Developing Mobile Web Applications (tutorial)
DTSTART:20120417T000000Z
DTEND:20120417T000000Z
DESCRIPTION:https://www.w3.org/events/talks/2012/developing-mobile-web-appl
 ications/\n\nDeveloping Mobile Web Applications
STATUS:CONFIRMED
CREATED:20120417T000000Z
LAST-MODIFIED:20221118T160938Z
END:VEVENT
END:VCALENDAR
