BEGIN:VCALENDAR
VERSION:2.0
PRODID:-//Sabre//Sabre VObject 4.5.8//EN
CALSCALE:GREGORIAN
NAME:ICC Color Management in SVG2
X-WR-CALNAME:ICC Color Management in SVG2
BEGIN:VTIMEZONE
TZID:UTC
X-MICROSOFT-CDO-TZID:0
BEGIN:STANDARD
DTSTART:20110217T000000
TZOFFSETFROM:+0000
TZOFFSETTO:+0000
TZNAME:UTC
END:STANDARD
END:VTIMEZONE
BEGIN:VEVENT
UID:ce18ddca-e207-4d13-9871-2ade206b64a9
DTSTAMP:20221118T160236Z
SUMMARY:ICC Color Management in SVG2
DTSTART:20120212T000000Z
DTEND:20120212T000000Z
DESCRIPTION:https://www.w3.org/events/talks/2012/icc-color-management-in-sv
 g2/\n\nICC Color Management in SVG2
STATUS:CONFIRMED
CREATED:20120212T000000Z
LAST-MODIFIED:20221118T160236Z
END:VEVENT
END:VCALENDAR
