BEGIN:VCALENDAR
VERSION:2.0
PRODID:-//Sabre//Sabre VObject 4.5.8//EN
CALSCALE:GREGORIAN
NAME:Is Lack of Access & Skills Limiting Careers? (panel)
X-WR-CALNAME:Is Lack of Access & Skills Limiting Careers? (panel)
BEGIN:VTIMEZONE
TZID:UTC
X-MICROSOFT-CDO-TZID:0
BEGIN:STANDARD
DTSTART:20110306T000000
TZOFFSETFROM:+0000
TZOFFSETTO:+0000
TZNAME:UTC
END:STANDARD
END:VTIMEZONE
BEGIN:VEVENT
UID:eb1f7863-796b-4538-b189-baf44f9c985a
DTSTAMP:20221118T160542Z
SUMMARY:Is Lack of Access & Skills Limiting Careers? (panel)
DTSTART:20120229T000000Z
DTEND:20120229T000000Z
DESCRIPTION:https://www.w3.org/events/talks/2012/is-lack-of-access-skills-l
 imiting-careers/\n\nIs Lack of Access & Skills Limiting Careers?
STATUS:CONFIRMED
CREATED:20120229T000000Z
LAST-MODIFIED:20221118T160542Z
END:VEVENT
END:VCALENDAR
