BEGIN:VCALENDAR
VERSION:2.0
PRODID:-//Sabre//Sabre VObject 4.5.8//EN
CALSCALE:GREGORIAN
NAME:Le Web\, plate-forme de convergence des appareils mobiles connectés (
 The Web\, the convergence platform for connected mobile devices)
X-WR-CALNAME:Le Web\, plate-forme de convergence des appareils mobiles conn
 ectés (The Web\, the convergence platform for connected mobile devices)
BEGIN:VTIMEZONE
TZID:UTC
X-MICROSOFT-CDO-TZID:0
BEGIN:STANDARD
DTSTART:20110219T000000
TZOFFSETFROM:+0000
TZOFFSETTO:+0000
TZNAME:UTC
END:STANDARD
END:VTIMEZONE
BEGIN:VEVENT
UID:cbbba366-2f40-4c42-869f-a80937563ad0
DTSTAMP:20221118T160250Z
SUMMARY:Le Web\, plate-forme de convergence des appareils mobiles connecté
 s (The Web\, the convergence platform for connected mobile devices)
DTSTART:20120214T000000Z
DTEND:20120214T000000Z
DESCRIPTION:https://www.w3.org/events/talks/2012/le-web-plate-forme-de-conv
 ergence-des-appareils-mobiles-connect%C3%A9s-the-web-the-convergence-platf
 orm-for-connected-mobile-devices/\n\nLe Web\, plate-forme de convergence d
 es appareils mobiles connectés (The Web\, the convergence platform for co
 nnected mobile devices)
STATUS:CONFIRMED
CREATED:20120214T000000Z
LAST-MODIFIED:20221118T160250Z
END:VEVENT
END:VCALENDAR
