BEGIN:VCALENDAR
VERSION:2.0
PRODID:-//Sabre//Sabre VObject 4.5.8//EN
CALSCALE:GREGORIAN
NAME:Linked Open Data: un paso más hacia la interoperabilidad eficiente
X-WR-CALNAME:Linked Open Data: un paso más hacia la interoperabilidad efic
 iente
BEGIN:VTIMEZONE
TZID:UTC
X-MICROSOFT-CDO-TZID:0
BEGIN:STANDARD
DTSTART:20111220T000000
TZOFFSETFROM:+0000
TZOFFSETTO:+0000
TZNAME:UTC
END:STANDARD
END:VTIMEZONE
BEGIN:VEVENT
UID:b97c29af-3a7c-42d4-8875-d1e2d323bd7d
DTSTAMP:20221118T160250Z
SUMMARY:Linked Open Data: un paso más hacia la interoperabilidad eficiente
DTSTART:20121214T000000Z
DTEND:20121214T000000Z
DESCRIPTION:https://www.w3.org/events/talks/2012/linked-open-data-un-paso-m
 %C3%A1s-hacia-la-interoperabilidad-eficiente/\n\nLinked Open Data: un paso
  más hacia la interoperabilidad eficiente
STATUS:CONFIRMED
CREATED:20121214T000000Z
LAST-MODIFIED:20221118T160250Z
END:VEVENT
END:VCALENDAR
