BEGIN:VCALENDAR
VERSION:2.0
PRODID:-//Sabre//Sabre VObject 4.5.8//EN
CALSCALE:GREGORIAN
NAME:Making New Web Technologies Accessible
X-WR-CALNAME:Making New Web Technologies Accessible
BEGIN:VTIMEZONE
TZID:UTC
X-MICROSOFT-CDO-TZID:0
BEGIN:STANDARD
DTSTART:20110308T000000
TZOFFSETFROM:+0000
TZOFFSETTO:+0000
TZNAME:UTC
END:STANDARD
END:VTIMEZONE
BEGIN:VEVENT
UID:f4548e2e-344d-4697-8e79-e331f7478ef1
DTSTAMP:20221118T160249Z
SUMMARY:Making New Web Technologies Accessible
DTSTART:20120302T000000Z
DTEND:20120302T000000Z
DESCRIPTION:https://www.w3.org/events/talks/2012/making-new-web-technologie
 s-accessible/\n\nMaking New Web Technologies Accessible
STATUS:CONFIRMED
CREATED:20120302T000000Z
LAST-MODIFIED:20221118T160249Z
END:VEVENT
END:VCALENDAR
