BEGIN:VCALENDAR
VERSION:2.0
PRODID:-//Sabre//Sabre VObject 4.5.8//EN
CALSCALE:GREGORIAN
NAME:Masterclass CSS3 (tutorial)
X-WR-CALNAME:Masterclass CSS3 (tutorial)
BEGIN:VTIMEZONE
TZID:UTC
X-MICROSOFT-CDO-TZID:0
BEGIN:STANDARD
DTSTART:20110919T000000
TZOFFSETFROM:+0000
TZOFFSETTO:+0000
TZNAME:UTC
END:STANDARD
END:VTIMEZONE
BEGIN:VEVENT
UID:fc9bb171-7a37-4f75-9347-12d41c72d9f6
DTSTAMP:20221118T162129Z
SUMMARY:Masterclass CSS3 (tutorial)
DTSTART:20120913T000000Z
DTEND:20120913T000000Z
DESCRIPTION:https://www.w3.org/events/talks/2012/masterclass-css3/\n\nMaste
 rclass CSS3
STATUS:CONFIRMED
CREATED:20120913T000000Z
LAST-MODIFIED:20221118T162129Z
END:VEVENT
END:VCALENDAR
