BEGIN:VCALENDAR
VERSION:2.0
PRODID:-//Sabre//Sabre VObject 4.5.8//EN
CALSCALE:GREGORIAN
NAME:More CSS secrets: Another 10 things you may not know about CSS
X-WR-CALNAME:More CSS secrets: Another 10 things you may not know about CSS
BEGIN:VTIMEZONE
TZID:UTC
X-MICROSOFT-CDO-TZID:0
BEGIN:STANDARD
DTSTART:20111010T000000
TZOFFSETFROM:+0000
TZOFFSETTO:+0000
TZNAME:UTC
END:STANDARD
END:VTIMEZONE
BEGIN:VEVENT
UID:2cee4520-880e-4e6f-b453-5d8646d8d621
DTSTAMP:20221118T160244Z
SUMMARY:More CSS secrets: Another 10 things you may not know about CSS
DTSTART:20121004T000000Z
DTEND:20121004T000000Z
DESCRIPTION:https://www.w3.org/events/talks/2012/more-css-secrets-another-1
 0-things-you-may-not-know-about-css/\n\nMore CSS secrets: Another 10 thing
 s you may not know about CSS
STATUS:CONFIRMED
CREATED:20121004T000000Z
LAST-MODIFIED:20221118T160244Z
END:VEVENT
END:VCALENDAR
