BEGIN:VCALENDAR
VERSION:2.0
PRODID:-//Sabre//Sabre VObject 4.5.8//EN
CALSCALE:GREGORIAN
NAME:Network/Device API Panel
X-WR-CALNAME:Network/Device API Panel
BEGIN:VTIMEZONE
TZID:UTC
X-MICROSOFT-CDO-TZID:0
BEGIN:STANDARD
DTSTART:20110517T000000
TZOFFSETFROM:+0000
TZOFFSETTO:+0000
TZNAME:UTC
END:STANDARD
END:VTIMEZONE
BEGIN:VEVENT
UID:2bf235a0-f2e6-4315-aadd-f3d0a737ea64
DTSTAMP:20221118T160237Z
SUMMARY:Network/Device API Panel
DTSTART:20120511T000000Z
DTEND:20120511T000000Z
DESCRIPTION:https://www.w3.org/events/talks/2012/network-device-api-panel/\
 n\nNetwork/Device API Panel
STATUS:CONFIRMED
CREATED:20120511T000000Z
LAST-MODIFIED:20221118T160237Z
END:VEVENT
END:VCALENDAR
