BEGIN:VCALENDAR
VERSION:2.0
PRODID:-//Sabre//Sabre VObject 4.5.8//EN
CALSCALE:GREGORIAN
NAME:Semantic Web Activity @ W3C
X-WR-CALNAME:Semantic Web Activity @ W3C
BEGIN:VTIMEZONE
TZID:UTC
X-MICROSOFT-CDO-TZID:0
BEGIN:STANDARD
DTSTART:20110218T000000
TZOFFSETFROM:+0000
TZOFFSETTO:+0000
TZNAME:UTC
END:STANDARD
END:VTIMEZONE
BEGIN:VEVENT
UID:72ba5f59-f6eb-4f63-8532-b3ac9c837e9e
DTSTAMP:20221118T160241Z
SUMMARY:Semantic Web Activity @ W3C
DTSTART:20120213T000000Z
DTEND:20120213T000000Z
DESCRIPTION:https://www.w3.org/events/talks/2012/semantic-web-activity-w3c/
 \n\nSemantic Web Activity @ W3C
STATUS:CONFIRMED
CREATED:20120213T000000Z
LAST-MODIFIED:20221118T160241Z
END:VEVENT
END:VCALENDAR
