BEGIN:VCALENDAR
VERSION:2.0
PRODID:-//Sabre//Sabre VObject 4.5.8//EN
CALSCALE:GREGORIAN
NAME:The 2010 CSS snapshot and beyond
X-WR-CALNAME:The 2010 CSS snapshot and beyond
BEGIN:VTIMEZONE
TZID:UTC
X-MICROSOFT-CDO-TZID:0
BEGIN:STANDARD
DTSTART:20110131T000000
TZOFFSETFROM:+0000
TZOFFSETTO:+0000
TZNAME:UTC
END:STANDARD
END:VTIMEZONE
BEGIN:VEVENT
UID:15acd0f3-86d5-4cb0-8b77-649ce0c3590c
DTSTAMP:20221118T160249Z
SUMMARY:The 2010 CSS snapshot and beyond
DTSTART:20120126T000000Z
DTEND:20120126T000000Z
DESCRIPTION:https://www.w3.org/events/talks/2012/the-2010-css-snapshot-and-
 beyond/\n\nThe 2010 CSS snapshot and beyond
STATUS:CONFIRMED
CREATED:20120126T000000Z
LAST-MODIFIED:20221118T160249Z
END:VEVENT
END:VCALENDAR
