BEGIN:VCALENDAR
VERSION:2.0
PRODID:-//Sabre//Sabre VObject 4.5.8//EN
CALSCALE:GREGORIAN
NAME:The Open Web Platform
X-WR-CALNAME:The Open Web Platform
BEGIN:VTIMEZONE
TZID:UTC
X-MICROSOFT-CDO-TZID:0
BEGIN:STANDARD
DTSTART:20110312T000000
TZOFFSETFROM:+0000
TZOFFSETTO:+0000
TZNAME:UTC
END:STANDARD
END:VTIMEZONE
BEGIN:VEVENT
UID:a302f55d-ea54-4372-bc36-717f30d66f81
DTSTAMP:20221118T160239Z
SUMMARY:The Open Web Platform
DTSTART:20120306T000000Z
DTEND:20120306T000000Z
DESCRIPTION:https://www.w3.org/events/talks/2012/the-open-web-platform-2/\n
 \nThe Open Web Platform
STATUS:CONFIRMED
CREATED:20120306T000000Z
LAST-MODIFIED:20221118T160239Z
END:VEVENT
END:VCALENDAR
