BEGIN:VCALENDAR
VERSION:2.0
PRODID:-//Sabre//Sabre VObject 4.5.8//EN
CALSCALE:GREGORIAN
NAME:Treating JSON as a subset of XML
X-WR-CALNAME:Treating JSON as a subset of XML
BEGIN:VTIMEZONE
TZID:UTC
X-MICROSOFT-CDO-TZID:0
BEGIN:STANDARD
DTSTART:20110216T000000
TZOFFSETFROM:+0000
TZOFFSETTO:+0000
TZNAME:UTC
END:STANDARD
END:VTIMEZONE
BEGIN:VEVENT
UID:e6151fb7-5345-442f-ab58-0b61adaa6346
DTSTAMP:20221118T160242Z
SUMMARY:Treating JSON as a subset of XML
DTSTART:20120211T000000Z
DTEND:20120211T000000Z
DESCRIPTION:https://www.w3.org/events/talks/2012/treating-json-as-a-subset-
 of-xml/\n\nTreating JSON as a subset of XML
STATUS:CONFIRMED
CREATED:20120211T000000Z
LAST-MODIFIED:20221118T160242Z
END:VEVENT
END:VCALENDAR
