BEGIN:VCALENDAR
VERSION:2.0
PRODID:-//Sabre//Sabre VObject 4.5.8//EN
CALSCALE:GREGORIAN
NAME:Web Accessibility Community Collaboration (panel)
X-WR-CALNAME:Web Accessibility Community Collaboration (panel)
BEGIN:VTIMEZONE
TZID:UTC
X-MICROSOFT-CDO-TZID:0
BEGIN:STANDARD
DTSTART:20110306T000000
TZOFFSETFROM:+0000
TZOFFSETTO:+0000
TZNAME:UTC
END:STANDARD
END:VTIMEZONE
BEGIN:VEVENT
UID:7dba3d64-405a-417f-81fa-0ff3c7b987f3
DTSTAMP:20221118T160501Z
SUMMARY:Web Accessibility Community Collaboration (panel)
DTSTART:20120229T000000Z
DTEND:20120229T000000Z
DESCRIPTION:https://www.w3.org/events/talks/2012/web-accessibility-communit
 y-collaboration/\n\nWeb Accessibility Community Collaboration
STATUS:CONFIRMED
CREATED:20120229T000000Z
LAST-MODIFIED:20221118T160501Z
END:VEVENT
END:VCALENDAR
