BEGIN:VCALENDAR
VERSION:2.0
PRODID:-//Sabre//Sabre VObject 4.5.8//EN
CALSCALE:GREGORIAN
NAME:Website Evaluation and Testing with WCAG 2
X-WR-CALNAME:Website Evaluation and Testing with WCAG 2
BEGIN:VTIMEZONE
TZID:UTC
X-MICROSOFT-CDO-TZID:0
BEGIN:STANDARD
DTSTART:20110307T000000
TZOFFSETFROM:+0000
TZOFFSETTO:+0000
TZNAME:UTC
END:STANDARD
END:VTIMEZONE
BEGIN:VEVENT
UID:364017d5-2b03-4af1-a7af-f03396d4d67e
DTSTAMP:20221118T160235Z
SUMMARY:Website Evaluation and Testing with WCAG 2
DTSTART:20120301T000000Z
DTEND:20120301T000000Z
DESCRIPTION:https://www.w3.org/events/talks/2012/website-evaluation-and-tes
 ting-with-wcag-2/\n\nWebsite Evaluation and Testing with WCAG 2
STATUS:CONFIRMED
CREATED:20120301T000000Z
LAST-MODIFIED:20221118T160235Z
END:VEVENT
END:VCALENDAR
