BEGIN:VCALENDAR
VERSION:2.0
PRODID:-//Sabre//Sabre VObject 4.5.8//EN
CALSCALE:GREGORIAN
NAME:Why Localisation Standardisation Activities Matter to You
X-WR-CALNAME:Why Localisation Standardisation Activities Matter to You
BEGIN:VTIMEZONE
TZID:UTC
X-MICROSOFT-CDO-TZID:0
BEGIN:STANDARD
DTSTART:20110402T000000
TZOFFSETFROM:+0000
TZOFFSETTO:+0000
TZNAME:UTC
END:STANDARD
END:VTIMEZONE
BEGIN:VEVENT
UID:e911febf-3044-4302-b504-76dcbf7b692f
DTSTAMP:20221118T160238Z
SUMMARY:Why Localisation Standardisation Activities Matter to You
DTSTART:20120327T000000Z
DTEND:20120327T000000Z
DESCRIPTION:https://www.w3.org/events/talks/2012/why-localisation-standardi
 sation-activities-matter-to-you/\n\nWhy Localisation Standardisation Activ
 ities Matter to You
STATUS:CONFIRMED
CREATED:20120327T000000Z
LAST-MODIFIED:20221118T160238Z
END:VEVENT
END:VCALENDAR
