BEGIN:VCALENDAR
VERSION:2.0
PRODID:-//Sabre//Sabre VObject 4.5.8//EN
CALSCALE:GREGORIAN
NAME:W3C y la Plataforma Web Abierta (W3C and the Open Web Platform)
X-WR-CALNAME:W3C y la Plataforma Web Abierta (W3C and the Open Web Platform
 )
BEGIN:VTIMEZONE
TZID:UTC
X-MICROSOFT-CDO-TZID:0
BEGIN:STANDARD
DTSTART:20121219T000000
TZOFFSETFROM:+0000
TZOFFSETTO:+0000
TZNAME:UTC
END:STANDARD
END:VTIMEZONE
BEGIN:VEVENT
UID:27882061-ddd8-45dc-a784-f3bbe3b69df5
DTSTAMP:20221207T102036Z
SUMMARY:W3C y la Plataforma Web Abierta (W3C and the Open Web Platform)
DTSTART:20131214T000000Z
DTEND:20131214T000000Z
DESCRIPTION:https://www.w3.org/events/talks/2013/w3c-y-la-plataforma-web-ab
 ierta-w3c-and-the-open-web-platform/\n\nW3C y la Plataforma Web Abierta (W
 3C and the Open Web Platform)
STATUS:CONFIRMED
CREATED:20131214T000000Z
LAST-MODIFIED:20221207T102036Z
END:VEVENT
END:VCALENDAR
