BEGIN:VCALENDAR
VERSION:2.0
PRODID:-//Sabre//Sabre VObject 4.5.8//EN
CALSCALE:GREGORIAN
NAME:失敗しない作戦〜テレビ用のWeb開発〜 (Web design for TV
 : Strategies for success)
X-WR-CALNAME:失敗しない作戦〜テレビ用のWeb開発〜 (Web desig
 n for TV: Strategies for success)
BEGIN:VTIMEZONE
TZID:UTC
X-MICROSOFT-CDO-TZID:0
BEGIN:STANDARD
DTSTART:20130305T000000
TZOFFSETFROM:+0000
TZOFFSETTO:+0000
TZNAME:UTC
END:STANDARD
END:VTIMEZONE
BEGIN:VEVENT
UID:4bada9f7-9e61-4b4b-a1ff-a76fff1bf09e
DTSTAMP:20221207T140418Z
SUMMARY:失敗しない作戦〜テレビ用のWeb開発〜 (Web design for
  TV: Strategies for success)
DTSTART:20140228T000000Z
DTEND:20140228T000000Z
DESCRIPTION:https://www.w3.org/events/talks/2014/%E5%A4%B1%E6%95%97%E3%81%9
 7%E3%81%AA%E3%81%84%E4%BD%9C%E6%88%A6-%E3%83%86%E3%83%AC%E3%83%93%E7%94%A8
 %E3%81%AEweb%E9%96%8B%E7%99%BA-web-design-for-tv-strategies-for-success/\n
 \n失敗しない作戦〜テレビ用のWeb開発〜 (Web design for TV: 
 Strategies for success)
STATUS:CONFIRMED
CREATED:20140228T000000Z
LAST-MODIFIED:20221207T140418Z
END:VEVENT
END:VCALENDAR
