BEGIN:VCALENDAR
VERSION:2.0
PRODID:-//Sabre//Sabre VObject 4.5.8//EN
CALSCALE:GREGORIAN
NAME:25 Años de la Web (25th Anniversary of the Web) (panel)
X-WR-CALNAME:25 Años de la Web (25th Anniversary of the Web) (panel)
BEGIN:VTIMEZONE
TZID:UTC
X-MICROSOFT-CDO-TZID:0
BEGIN:STANDARD
DTSTART:20130318T000000
TZOFFSETFROM:+0000
TZOFFSETTO:+0000
TZNAME:UTC
END:STANDARD
END:VTIMEZONE
BEGIN:VEVENT
UID:0f3df76c-e30a-47c8-9ead-eb7ef7859dc6
DTSTAMP:20221207T140408Z
SUMMARY:25 Años de la Web (25th Anniversary of the Web) (panel)
DTSTART:20140313T000000Z
DTEND:20140313T000000Z
DESCRIPTION:https://www.w3.org/events/talks/2014/25-a%C3%B1os-de-la-web-25t
 h-anniversary-of-the-web-panel/\n\n25 Años de la Web (25th Anniversary of
  the Web) (panel)
STATUS:CONFIRMED
CREATED:20140313T000000Z
LAST-MODIFIED:20221207T140408Z
END:VEVENT
END:VCALENDAR
