BEGIN:VCALENDAR
VERSION:2.0
PRODID:-//Sabre//Sabre VObject 4.5.8//EN
CALSCALE:GREGORIAN
NAME:Accessibility Features of HTML5
X-WR-CALNAME:Accessibility Features of HTML5
BEGIN:VTIMEZONE
TZID:UTC
X-MICROSOFT-CDO-TZID:0
BEGIN:STANDARD
DTSTART:20130324T000000
TZOFFSETFROM:+0000
TZOFFSETTO:+0000
TZNAME:UTC
END:STANDARD
END:VTIMEZONE
BEGIN:VEVENT
UID:f8e4edd0-e29b-4830-a95c-595601c3be6b
DTSTAMP:20221207T140428Z
SUMMARY:Accessibility Features of HTML5
DTSTART:20140319T000000Z
DTEND:20140319T000000Z
DESCRIPTION:https://www.w3.org/events/talks/2014/accessibility-features-of-
 html5/\n\nAccessibility Features of HTML5
STATUS:CONFIRMED
CREATED:20140319T000000Z
LAST-MODIFIED:20221207T140428Z
END:VEVENT
END:VCALENDAR
