BEGIN:VCALENDAR
VERSION:2.0
PRODID:-//Sabre//Sabre VObject 4.5.8//EN
CALSCALE:GREGORIAN
NAME:Accessible Web-Based eLearning (Webcast)
X-WR-CALNAME:Accessible Web-Based eLearning (Webcast)
BEGIN:VTIMEZONE
TZID:UTC
X-MICROSOFT-CDO-TZID:0
BEGIN:STANDARD
DTSTART:20130709T000000
TZOFFSETFROM:+0000
TZOFFSETTO:+0000
TZNAME:UTC
END:STANDARD
END:VTIMEZONE
BEGIN:VEVENT
UID:33b5fe05-bcbe-416e-b765-9ec077f51c55
DTSTAMP:20221207T140432Z
SUMMARY:Accessible Web-Based eLearning (Webcast)
DTSTART:20140704T000000Z
DTEND:20140704T000000Z
DESCRIPTION:https://www.w3.org/events/talks/2014/accessible-web-based-elear
 ning-webcast/\n\nAccessible Web-Based eLearning (Webcast)
STATUS:CONFIRMED
CREATED:20140704T000000Z
LAST-MODIFIED:20221207T140432Z
END:VEVENT
END:VCALENDAR
