BEGIN:VCALENDAR
VERSION:2.0
PRODID:-//Sabre//Sabre VObject 4.5.8//EN
CALSCALE:GREGORIAN
NAME:Annotations Standards for the Open Web Platform: Scholarly Publishing 
 and Libraries
X-WR-CALNAME:Annotations Standards for the Open Web Platform: Scholarly Pub
 lishing and Libraries
BEGIN:VTIMEZONE
TZID:UTC
X-MICROSOFT-CDO-TZID:0
BEGIN:STANDARD
DTSTART:20131213T000000
TZOFFSETFROM:+0000
TZOFFSETTO:+0000
TZNAME:UTC
END:STANDARD
END:VTIMEZONE
BEGIN:VEVENT
UID:006832f7-7789-4262-a1a5-af206e013233
DTSTAMP:20221207T144942Z
SUMMARY:Annotations Standards for the Open Web Platform: Scholarly Publishi
 ng and Libraries
DTSTART:20141208T000000Z
DTEND:20141208T000000Z
DESCRIPTION:https://www.w3.org/events/talks/2014/annotations-standards-for-
 the-open-web-platform-scholarly-publishing-and-libraries/\n\nAnnotations S
 tandards for the Open Web Platform: Scholarly Publishing and Libraries
STATUS:CONFIRMED
CREATED:20141208T000000Z
LAST-MODIFIED:20221207T144942Z
END:VEVENT
END:VCALENDAR
