BEGIN:VCALENDAR
VERSION:2.0
PRODID:-//Sabre//Sabre VObject 4.5.8//EN
CALSCALE:GREGORIAN
NAME:Authoring Tool Accessibility Guidelines for your accessible web
X-WR-CALNAME:Authoring Tool Accessibility Guidelines for your accessible we
 b
BEGIN:VTIMEZONE
TZID:UTC
X-MICROSOFT-CDO-TZID:0
BEGIN:STANDARD
DTSTART:20130325T000000
TZOFFSETFROM:+0000
TZOFFSETTO:+0000
TZNAME:UTC
END:STANDARD
END:VTIMEZONE
BEGIN:VEVENT
UID:122e14b9-2539-4014-9650-ab560e6f2362
DTSTAMP:20221207T140353Z
SUMMARY:Authoring Tool Accessibility Guidelines for your accessible web
DTSTART:20140320T000000Z
DTEND:20140320T000000Z
DESCRIPTION:https://www.w3.org/events/talks/2014/authoring-tool-accessibili
 ty-guidelines-for-your-accessible-web/\n\nAuthoring Tool Accessibility Gui
 delines for your accessible web
STATUS:CONFIRMED
CREATED:20140320T000000Z
LAST-MODIFIED:20221207T140353Z
END:VEVENT
END:VCALENDAR
