BEGIN:VCALENDAR
VERSION:2.0
PRODID:-//Sabre//Sabre VObject 4.5.8//EN
CALSCALE:GREGORIAN
NAME:Coloured glyphs in OpenType
X-WR-CALNAME:Coloured glyphs in OpenType
BEGIN:VTIMEZONE
TZID:UTC
X-MICROSOFT-CDO-TZID:0
BEGIN:STANDARD
DTSTART:20130408T000000
TZOFFSETFROM:+0000
TZOFFSETTO:+0000
TZNAME:UTC
END:STANDARD
END:VTIMEZONE
BEGIN:VEVENT
UID:71b57496-ff1e-44be-9631-d0a3985d37f9
DTSTAMP:20221207T140408Z
SUMMARY:Coloured glyphs in OpenType
DTSTART:20140403T000000Z
DTEND:20140403T000000Z
DESCRIPTION:https://www.w3.org/events/talks/2014/coloured-glyphs-in-opentyp
 e/\n\nColoured glyphs in OpenType
STATUS:CONFIRMED
CREATED:20140403T000000Z
LAST-MODIFIED:20221207T140408Z
END:VEVENT
END:VCALENDAR
