BEGIN:VCALENDAR
VERSION:2.0
PRODID:-//Sabre//Sabre VObject 4.5.8//EN
CALSCALE:GREGORIAN
NAME:Communication\, content\, copyright
X-WR-CALNAME:Communication\, content\, copyright
BEGIN:VTIMEZONE
TZID:UTC
X-MICROSOFT-CDO-TZID:0
BEGIN:STANDARD
DTSTART:20130114T000000
TZOFFSETFROM:+0000
TZOFFSETTO:+0000
TZNAME:UTC
END:STANDARD
END:VTIMEZONE
BEGIN:VEVENT
UID:06b834d4-a264-4acb-b409-b08dba2e77ae
DTSTAMP:20221207T140339Z
SUMMARY:Communication\, content\, copyright
DTSTART:20140109T000000Z
DTEND:20140109T000000Z
DESCRIPTION:https://www.w3.org/events/talks/2014/communication-content-copy
 right/\n\nCommunication\, content\, copyright
STATUS:CONFIRMED
CREATED:20140109T000000Z
LAST-MODIFIED:20221207T140339Z
END:VEVENT
END:VCALENDAR
