BEGIN:VCALENDAR
VERSION:2.0
PRODID:-//Sabre//Sabre VObject 4.5.8//EN
CALSCALE:GREGORIAN
NAME:Declarative Web Applications
X-WR-CALNAME:Declarative Web Applications
BEGIN:VTIMEZONE
TZID:UTC
X-MICROSOFT-CDO-TZID:0
BEGIN:STANDARD
DTSTART:20130205T000000
TZOFFSETFROM:+0000
TZOFFSETTO:+0000
TZNAME:UTC
END:STANDARD
END:VTIMEZONE
BEGIN:VEVENT
UID:8a369545-557e-4750-a17a-f95a41223f41
DTSTAMP:20221207T140427Z
SUMMARY:Declarative Web Applications
DTSTART:20140131T000000Z
DTEND:20140131T000000Z
DESCRIPTION:https://www.w3.org/events/talks/2014/declarative-web-applicatio
 ns/\n\nDeclarative Web Applications
STATUS:CONFIRMED
CREATED:20140131T000000Z
LAST-MODIFIED:20221207T140427Z
END:VEVENT
END:VCALENDAR
