BEGIN:VCALENDAR
VERSION:2.0
PRODID:-//Sabre//Sabre VObject 4.5.8//EN
CALSCALE:GREGORIAN
NAME:Developing rich multimodal mobile applications using W3C Standards (tu
 torial)
X-WR-CALNAME:Developing rich multimodal mobile applications using W3C Stand
 ards (tutorial)
BEGIN:VTIMEZONE
TZID:UTC
X-MICROSOFT-CDO-TZID:0
BEGIN:STANDARD
DTSTART:20130308T000000
TZOFFSETFROM:+0000
TZOFFSETTO:+0000
TZNAME:UTC
END:STANDARD
END:VTIMEZONE
BEGIN:VEVENT
UID:2cccbbc2-e0fd-4a2c-9421-6f3822ceec79
DTSTAMP:20221207T143944Z
SUMMARY:Developing rich multimodal mobile applications using W3C Standards 
 (tutorial)
DTSTART:20140303T000000Z
DTEND:20140303T000000Z
DESCRIPTION:https://www.w3.org/events/talks/2014/developing-rich-multimodal
 -mobile-applications-using-w3c-standards-tutorial/\n\nDeveloping rich mult
 imodal mobile applications using W3C Standards
STATUS:CONFIRMED
CREATED:20140303T000000Z
LAST-MODIFIED:20221207T143944Z
END:VEVENT
END:VCALENDAR
