BEGIN:VCALENDAR
VERSION:2.0
PRODID:-//Sabre//Sabre VObject 4.5.8//EN
CALSCALE:GREGORIAN
NAME:Easy Checks for Web Accessibility: Get the Gist (No Experience Needed)
X-WR-CALNAME:Easy Checks for Web Accessibility: Get the Gist (No Experience
  Needed)
BEGIN:VTIMEZONE
TZID:UTC
X-MICROSOFT-CDO-TZID:0
BEGIN:STANDARD
DTSTART:20130324T000000
TZOFFSETFROM:+0000
TZOFFSETTO:+0000
TZNAME:UTC
END:STANDARD
END:VTIMEZONE
BEGIN:VEVENT
UID:db5af7e7-d9e0-48c8-b2af-a5088d0b3f76
DTSTAMP:20221207T143446Z
SUMMARY:Easy Checks for Web Accessibility: Get the Gist (No Experience Need
 ed)
DTSTART:20140319T000000Z
DTEND:20140319T000000Z
DESCRIPTION:https://www.w3.org/events/talks/2014/easy-checks-for-web-access
 ibility-get-the-gist-no-experience-needed-tutorial/\n\nEasy Checks for Web
  Accessibility: Get the Gist (No Experience Needed) (tutorial)
STATUS:CONFIRMED
CREATED:20140319T000000Z
LAST-MODIFIED:20221207T143446Z
END:VEVENT
END:VCALENDAR
