BEGIN:VCALENDAR
VERSION:2.0
PRODID:-//Sabre//Sabre VObject 4.5.8//EN
CALSCALE:GREGORIAN
NAME:Entendendo a Web Semântica (Understanding Semantic Web)
X-WR-CALNAME:Entendendo a Web Semântica (Understanding Semantic Web)
BEGIN:VTIMEZONE
TZID:UTC
X-MICROSOFT-CDO-TZID:0
BEGIN:STANDARD
DTSTART:20130403T000000
TZOFFSETFROM:+0000
TZOFFSETTO:+0000
TZNAME:UTC
END:STANDARD
END:VTIMEZONE
BEGIN:VEVENT
UID:b2bf5324-79b7-4b7e-8c22-5ab1dea7b631
DTSTAMP:20221207T140345Z
SUMMARY:Entendendo a Web Semântica (Understanding Semantic Web)
DTSTART:20140329T000000Z
DTEND:20140329T000000Z
DESCRIPTION:https://www.w3.org/events/talks/2014/entendendo-a-web-sem%C3%A2
 ntica-understanding-semantic-web/\n\nEntendendo a Web Semântica (Understa
 nding Semantic Web)
STATUS:CONFIRMED
CREATED:20140329T000000Z
LAST-MODIFIED:20221207T140345Z
END:VEVENT
END:VCALENDAR
