BEGIN:VCALENDAR
VERSION:2.0
PRODID:-//Sabre//Sabre VObject 4.5.8//EN
CALSCALE:GREGORIAN
NAME:Internet\, the next 25 years
X-WR-CALNAME:Internet\, the next 25 years
BEGIN:VTIMEZONE
TZID:UTC
X-MICROSOFT-CDO-TZID:0
BEGIN:STANDARD
DTSTART:20130325T000000
TZOFFSETFROM:+0000
TZOFFSETTO:+0000
TZNAME:UTC
END:STANDARD
END:VTIMEZONE
BEGIN:VEVENT
UID:444076c2-84dd-4de9-b61e-1aa0023a8c1d
DTSTAMP:20221207T140415Z
SUMMARY:Internet\, the next 25 years
DTSTART:20140320T000000Z
DTEND:20140320T000000Z
DESCRIPTION:https://www.w3.org/events/talks/2014/internet-the-next-25-years
 /\n\nInternet\, the next 25 years
STATUS:CONFIRMED
CREATED:20140320T000000Z
LAST-MODIFIED:20221207T140415Z
END:VEVENT
END:VCALENDAR
