BEGIN:VCALENDAR
VERSION:2.0
PRODID:-//Sabre//Sabre VObject 4.5.8//EN
CALSCALE:GREGORIAN
NAME:Is the Web good enough for my app?
X-WR-CALNAME:Is the Web good enough for my app?
BEGIN:VTIMEZONE
TZID:UTC
X-MICROSOFT-CDO-TZID:0
BEGIN:STANDARD
DTSTART:20131209T000000
TZOFFSETFROM:+0000
TZOFFSETTO:+0000
TZNAME:UTC
END:STANDARD
END:VTIMEZONE
BEGIN:VEVENT
UID:e4d18460-335f-4cca-be23-3a4b301f708a
DTSTAMP:20221207T140354Z
SUMMARY:Is the Web good enough for my app?
DTSTART:20141204T000000Z
DTEND:20141204T000000Z
DESCRIPTION:https://www.w3.org/events/talks/2014/is-the-web-good-enough-for
 -my-app/\n\nIs the Web good enough for my app?
STATUS:CONFIRMED
CREATED:20141204T000000Z
LAST-MODIFIED:20221207T140354Z
END:VEVENT
END:VCALENDAR
