BEGIN:VCALENDAR
VERSION:2.0
PRODID:-//Sabre//Sabre VObject 4.5.8//EN
CALSCALE:GREGORIAN
NAME:LOD in Context
X-WR-CALNAME:LOD in Context
BEGIN:VTIMEZONE
TZID:UTC
X-MICROSOFT-CDO-TZID:0
BEGIN:STANDARD
DTSTART:20130203T000000
TZOFFSETFROM:+0000
TZOFFSETTO:+0000
TZNAME:UTC
END:STANDARD
END:VTIMEZONE
BEGIN:VEVENT
UID:45dd785e-0cf1-4e31-81c3-75b931f7ee19
DTSTAMP:20221207T140343Z
SUMMARY:LOD in Context
DTSTART:20140129T000000Z
DTEND:20140129T000000Z
DESCRIPTION:https://www.w3.org/events/talks/2014/lod-in-context/\n\nLOD in 
 Context
STATUS:CONFIRMED
CREATED:20140129T000000Z
LAST-MODIFIED:20221207T140343Z
END:VEVENT
END:VCALENDAR
