BEGIN:VCALENDAR
VERSION:2.0
PRODID:-//Sabre//Sabre VObject 4.5.8//EN
CALSCALE:GREGORIAN
NAME:LOD\, Where Are We?
X-WR-CALNAME:LOD\, Where Are We?
BEGIN:VTIMEZONE
TZID:UTC
X-MICROSOFT-CDO-TZID:0
BEGIN:STANDARD
DTSTART:20130225T000000
TZOFFSETFROM:+0000
TZOFFSETTO:+0000
TZNAME:UTC
END:STANDARD
END:VTIMEZONE
BEGIN:VEVENT
UID:2aad3d8c-366d-4f1b-923f-c521ad3776eb
DTSTAMP:20221207T140422Z
SUMMARY:LOD\, Where Are We?
DTSTART:20140220T000000Z
DTEND:20140220T000000Z
DESCRIPTION:https://www.w3.org/events/talks/2014/lod-where-are-we/\n\nLOD\,
  Where Are We?
STATUS:CONFIRMED
CREATED:20140220T000000Z
LAST-MODIFIED:20221207T140422Z
END:VEVENT
END:VCALENDAR
